BEGIN:VCALENDAR
VERSION:2.0
PRODID:-//Secretaría Andaluza de Patín a Vela - ECPv6.15.20//NONSGML v1.0//EN
CALSCALE:GREGORIAN
METHOD:PUBLISH
X-WR-CALNAME:Secretaría Andaluza de Patín a Vela
X-ORIGINAL-URL:https://cvbahiacadiz.es
X-WR-CALDESC:Eventos para Secretaría Andaluza de Patín a Vela
REFRESH-INTERVAL;VALUE=DURATION:PT1H
X-Robots-Tag:noindex
X-PUBLISHED-TTL:PT1H
BEGIN:VTIMEZONE
TZID:Europe/Madrid
BEGIN:DAYLIGHT
TZOFFSETFROM:+0100
TZOFFSETTO:+0200
TZNAME:CEST
DTSTART:20240331T010000
END:DAYLIGHT
BEGIN:STANDARD
TZOFFSETFROM:+0200
TZOFFSETTO:+0100
TZNAME:CET
DTSTART:20241027T010000
END:STANDARD
BEGIN:DAYLIGHT
TZOFFSETFROM:+0100
TZOFFSETTO:+0200
TZNAME:CEST
DTSTART:20250330T010000
END:DAYLIGHT
BEGIN:STANDARD
TZOFFSETFROM:+0200
TZOFFSETTO:+0100
TZNAME:CET
DTSTART:20251026T010000
END:STANDARD
BEGIN:DAYLIGHT
TZOFFSETFROM:+0100
TZOFFSETTO:+0200
TZNAME:CEST
DTSTART:20260329T010000
END:DAYLIGHT
BEGIN:STANDARD
TZOFFSETFROM:+0200
TZOFFSETTO:+0100
TZNAME:CET
DTSTART:20261025T010000
END:STANDARD
END:VTIMEZONE
BEGIN:VEVENT
DTSTART;TZID=Europe/Madrid:20250712T120000
DTEND;TZID=Europe/Madrid:20250712T190000
DTSTAMP:20260421T081658
CREATED:20250402T125538Z
LAST-MODIFIED:20250617T140252Z
UID:3162-1752321600-1752346800@cvbahiacadiz.es
SUMMARY:XIV Regata Mosquito
DESCRIPTION:La XIV Regata “Mosquito”\, para la clase Patín\, se navegará en aguas de Punta Umbría (Huelva) el día 12 de julio de 2025\, organizado por “MOSQUITO Club Nórax” y con la colaboración del Club Deportivo Náutico Punta Umbría y de la Secretaría Andaluza de Patín a Vela (SAPAV). \nAnuncio de Regata e Inscripciones
URL:https://cvbahiacadiz.es/eventos/xiv-regata-mosquito-2/
LOCATION:Mosquito Club\, 529X+WG Punta Umbría\, España
CATEGORIES:Regatas
END:VEVENT
END:VCALENDAR